BEGIN:VCALENDAR
VERSION:2.0
PRODID:-//CISSecure - ECPv6.15.20//NONSGML v1.0//EN
CALSCALE:GREGORIAN
METHOD:PUBLISH
X-WR-CALNAME:CISSecure
X-ORIGINAL-URL:https://cissecure.com
X-WR-CALDESC:Events for CISSecure
REFRESH-INTERVAL;VALUE=DURATION:PT1H
X-Robots-Tag:noindex
X-PUBLISHED-TTL:PT1H
BEGIN:VTIMEZONE
TZID:America/New_York
BEGIN:DAYLIGHT
TZOFFSETFROM:-0500
TZOFFSETTO:-0400
TZNAME:EDT
DTSTART:20230312T070000
END:DAYLIGHT
BEGIN:STANDARD
TZOFFSETFROM:-0400
TZOFFSETTO:-0500
TZNAME:EST
DTSTART:20231105T060000
END:STANDARD
BEGIN:DAYLIGHT
TZOFFSETFROM:-0500
TZOFFSETTO:-0400
TZNAME:EDT
DTSTART:20240310T070000
END:DAYLIGHT
BEGIN:STANDARD
TZOFFSETFROM:-0400
TZOFFSETTO:-0500
TZNAME:EST
DTSTART:20241103T060000
END:STANDARD
BEGIN:DAYLIGHT
TZOFFSETFROM:-0500
TZOFFSETTO:-0400
TZNAME:EDT
DTSTART:20250309T070000
END:DAYLIGHT
BEGIN:STANDARD
TZOFFSETFROM:-0400
TZOFFSETTO:-0500
TZNAME:EST
DTSTART:20251102T060000
END:STANDARD
END:VTIMEZONE
BEGIN:VEVENT
DTSTART;TZID=America/New_York:20240221T080000
DTEND;TZID=America/New_York:20240223T170000
DTSTAMP:20260419T173549
CREATED:20231003T191931Z
LAST-MODIFIED:20240208T184841Z
UID:10000023-1708502400-1708707600@cissecure.com
SUMMARY:AFCEA TechNet Fort Liberty Symposium & Exposition | February 21-23\, 2024 | Fort Liberty\, NC | Booth #317
DESCRIPTION:CIS Secure is looking forward to exhibiting at Fort Liberty.
URL:https://cissecure.com/event/afcea-technet-fort-liberty-symposium-exposition-february-21-23-2024-fort-liberty-nc-booth-317/
LOCATION:Fort Liberty. 2658 Rock Merritt Ave\, Fort Liberty\, NC 28310
ATTACH;FMTTYPE=image/png:https://cissecure.com/wp-content/uploads/Event-TechNetFortLib2024-500x500-1.png
END:VEVENT
END:VCALENDAR