BEGIN:VCALENDAR
VERSION:2.0
PRODID:-//CISSecure - ECPv6.15.20//NONSGML v1.0//EN
CALSCALE:GREGORIAN
METHOD:PUBLISH
X-ORIGINAL-URL:https://cissecure.com
X-WR-CALDESC:Events for CISSecure
REFRESH-INTERVAL;VALUE=DURATION:PT1H
X-Robots-Tag:noindex
X-PUBLISHED-TTL:PT1H
BEGIN:VTIMEZONE
TZID:America/New_York
BEGIN:DAYLIGHT
TZOFFSETFROM:-0500
TZOFFSETTO:-0400
TZNAME:EDT
DTSTART:20220313T070000
END:DAYLIGHT
BEGIN:STANDARD
TZOFFSETFROM:-0400
TZOFFSETTO:-0500
TZNAME:EST
DTSTART:20221106T060000
END:STANDARD
BEGIN:DAYLIGHT
TZOFFSETFROM:-0500
TZOFFSETTO:-0400
TZNAME:EDT
DTSTART:20230312T070000
END:DAYLIGHT
BEGIN:STANDARD
TZOFFSETFROM:-0400
TZOFFSETTO:-0500
TZNAME:EST
DTSTART:20231105T060000
END:STANDARD
BEGIN:DAYLIGHT
TZOFFSETFROM:-0500
TZOFFSETTO:-0400
TZNAME:EDT
DTSTART:20240310T070000
END:DAYLIGHT
BEGIN:STANDARD
TZOFFSETFROM:-0400
TZOFFSETTO:-0500
TZNAME:EST
DTSTART:20241103T060000
END:STANDARD
END:VTIMEZONE
BEGIN:VEVENT
DTSTART;VALUE=DATE:20230627
DTEND;VALUE=DATE:20230701
DTSTAMP:20260419T190445
CREATED:20230202T202933Z
LAST-MODIFIED:20230324T143928Z
UID:10000008-1687824000-1688169599@cissecure.com
SUMMARY:NLIT (National Laboratories Information Technology) Summit | June 27-30\, 2023 | Milwaukee\, WI | Booth 313
DESCRIPTION:CIS Secure is excited to exhibit at the upcoming NLIT summit. \n 
URL:https://cissecure.com/event/nlit-summit/
LOCATION:Wisconsin Center\, 400 W Wisconsin Ave\, Milwaukee\, WI\, 53203
ATTACH;FMTTYPE=image/png:https://cissecure.com/wp-content/uploads/Event-01-NLIT-500x500-1.png
END:VEVENT
END:VCALENDAR